BEGIN:VCALENDAR
VERSION:1.0
PRODID:Open2CKalenderExportV11
BEGIN:VEVENT
DTSTAMP:20221213T103511Z
DTSTART:20221227T190000Z
DTEND:20221227T190000Z
CATEGORIES:Sitzungen
SUMMARY:TSV 1860 FAN-CLUB HESSELBERG
DESCRIPTION:Einladung zur Jahreshauptversammlung am Dienstag, den 27.12.2022 im „Gasthaus Schäfer“ in Dorfkemmathen. |   | Beginn 18:60 Uhr |   | Für Speisen und Getränke ist bestens gesorgt! |   | gez. Die ewigen Weiß-Blauen - Vorstandschaft | Organisator   TSV 1860 Fan-Club Hesselberg
LOCATION:Gasthaus Schäfer Dorfkemmathen
UID:e8a78270d1f5a2385c9ea9a921a6fdf6-0cd47d8f3847e92e53082e7984690ef7
PRIORITY:3
END:VEVENT
END:VCALENDAR
