BEGIN:VCALENDAR
VERSION:1.0
PRODID:Open2CKalenderExportV11
BEGIN:VEVENT
DTSTAMP:20240311T075649Z
DTSTART:20240409T190000Z
DTEND:20240409T220000Z
CATEGORIES:Vereine
SUMMARY:Gemeinderatssitzung Langfurth
DESCRIPTION: | Organisator   Gemeinde Langfurth
LOCATION:Sitzungssaal Rathaus Langfurth
UID:681f5eefd88927d3b9ac3e18de04b429-a022ae218e155bc998b9e02f8f6e9738
PRIORITY:3
END:VEVENT
END:VCALENDAR
