BEGIN:VCALENDAR
VERSION:2.0
PRODID:< http://www.open2c.de/ >
METHOD:PUBLISH
X-PUBLISHED-TTL:PT12H
BEGIN:VEVENT
CREATED:20221213T103254Z
LAST-MODIFIED:20221213T103511Z
ORGANIZER;CN="TSV 1860 Fan-Club Hesselberg"
DTSTAMP:20260423T183622Z
DTSTART;VALUE=DATE:20221227
CATEGORIES:Sitzungen
SUMMARY:TSV 1860 FAN-CLUB HESSELBERG
DESCRIPTION:Einladung zur Jahreshauptversammlung am Dienstag\, den 27.12.202
	2 im „Gasthaus Schäfer“ in Dorfkemmathen.   Beginn 18:60 Uhr   Für
	 Speisen und Getränke ist bestens gesorgt!   gez. Die ewigen Weiß-Blaue
	n - Vorstandschaft Organisator TSV 1860 Fan-Club Hesselberg
LOCATION:Gasthaus Schäfer Dorfkemmathen
UID:c0d7f36ab290c350b839db304be53f8b@7a5ac6a645fa4e8eb3ebb97daa6b9677
END:VEVENT
END:VCALENDAR